BEGIN:VCALENDAR
PRODID:-//eluceo/ical//2.0/EN
VERSION:2.0
CALSCALE:GREGORIAN
BEGIN:VEVENT
UID:ea9fc303b433802ab719bdf258a0032c
DTSTAMP:20260422T035659Z
SUMMARY:Pád
DTSTART;TZID=Europe/Prague:20260429T180000
DTEND;TZID=Europe/Prague:20260429T195200
LOCATION:Kino Aero
END:VEVENT
END:VCALENDAR
BEGIN:VCALENDAR
PRODID:-//eluceo/ical//2.0/EN
VERSION:2.0
CALSCALE:GREGORIAN
BEGIN:VEVENT
UID:132e6e031ac7bd079dfa403288ab691d
DTSTAMP:20260422T035659Z
SUMMARY:Pád
DTSTART;TZID=Europe/Prague:20260429T180000
DTEND;TZID=Europe/Prague:20260429T195200
LOCATION:Kino Aero
END:VEVENT
END:VCALENDAR
