BEGIN:VCALENDAR
PRODID:-//eluceo/ical//2.0/EN
VERSION:2.0
CALSCALE:GREGORIAN
BEGIN:VEVENT
UID:ce1a494b178ad97a70e7753fdb131121
DTSTAMP:20260421T101856Z
SUMMARY:Drama
DTSTART;TZID=Europe/Prague:20260425T153000
DTEND;TZID=Europe/Prague:20260425T171600
LOCATION:Kino Lucerna
END:VEVENT
END:VCALENDAR
BEGIN:VCALENDAR
PRODID:-//eluceo/ical//2.0/EN
VERSION:2.0
CALSCALE:GREGORIAN
BEGIN:VEVENT
UID:3187bc717bcf40be5dfedbc5eb50d8eb
DTSTAMP:20260421T101856Z
SUMMARY:Drama
DTSTART;TZID=Europe/Prague:20260425T153000
DTEND;TZID=Europe/Prague:20260425T171600
LOCATION:Kino Lucerna
END:VEVENT
END:VCALENDAR
