BEGIN:VCALENDAR
PRODID:-//eluceo/ical//2.0/EN
VERSION:2.0
CALSCALE:GREGORIAN
BEGIN:VEVENT
UID:01308105bddf5a62c046ba8426da5ad7
DTSTAMP:20260421T102046Z
SUMMARY:Drama
DTSTART;TZID=Europe/Prague:20260425T174500
DTEND;TZID=Europe/Prague:20260425T193100
LOCATION:Kino Lucerna
END:VEVENT
END:VCALENDAR
BEGIN:VCALENDAR
PRODID:-//eluceo/ical//2.0/EN
VERSION:2.0
CALSCALE:GREGORIAN
BEGIN:VEVENT
UID:515c179b63589c54f1889fdfea9a922b
DTSTAMP:20260421T102046Z
SUMMARY:Drama
DTSTART;TZID=Europe/Prague:20260425T174500
DTEND;TZID=Europe/Prague:20260425T193100
LOCATION:Kino Lucerna
END:VEVENT
END:VCALENDAR
