BEGIN:VCALENDAR
PRODID:-//eluceo/ical//2.0/EN
VERSION:2.0
CALSCALE:GREGORIAN
BEGIN:VEVENT
UID:a061e4d3789eb59e4534199ee2ffe42b
DTSTAMP:20260421T102933Z
SUMMARY:Drama
DTSTART;TZID=Europe/Prague:20260426T150000
DTEND;TZID=Europe/Prague:20260426T164600
LOCATION:Kino Lucerna
END:VEVENT
END:VCALENDAR
BEGIN:VCALENDAR
PRODID:-//eluceo/ical//2.0/EN
VERSION:2.0
CALSCALE:GREGORIAN
BEGIN:VEVENT
UID:d290c7b98e4bb62ab6a9cc0a534ceeea
DTSTAMP:20260421T102933Z
SUMMARY:Drama
DTSTART;TZID=Europe/Prague:20260426T150000
DTEND;TZID=Europe/Prague:20260426T164600
LOCATION:Kino Lucerna
END:VEVENT
END:VCALENDAR
