BEGIN:VCALENDAR
PRODID:-//eluceo/ical//2.0/EN
VERSION:2.0
CALSCALE:GREGORIAN
BEGIN:VEVENT
UID:2003f548e64e1be4a68364bd349019b5
DTSTAMP:20260425T152544Z
SUMMARY:Slepice
DTSTART;TZID=Europe/Prague:20260426T173000
DTEND;TZID=Europe/Prague:20260426T190600
LOCATION:Kino Lucerna
END:VEVENT
END:VCALENDAR
BEGIN:VCALENDAR
PRODID:-//eluceo/ical//2.0/EN
VERSION:2.0
CALSCALE:GREGORIAN
BEGIN:VEVENT
UID:ba1e087fdb540361a1cc782ad4ceda97
DTSTAMP:20260425T152544Z
SUMMARY:Slepice
DTSTART;TZID=Europe/Prague:20260426T173000
DTEND;TZID=Europe/Prague:20260426T190600
LOCATION:Kino Lucerna
END:VEVENT
END:VCALENDAR
