BEGIN:VCALENDAR
PRODID:-//eluceo/ical//2.0/EN
VERSION:2.0
CALSCALE:GREGORIAN
BEGIN:VEVENT
UID:98c55b6cd0bac220de717f38889a2d14
DTSTAMP:20260421T102945Z
SUMMARY:Drama
DTSTART;TZID=Europe/Prague:20260426T200000
DTEND;TZID=Europe/Prague:20260426T214600
LOCATION:Kino Lucerna
END:VEVENT
END:VCALENDAR
BEGIN:VCALENDAR
PRODID:-//eluceo/ical//2.0/EN
VERSION:2.0
CALSCALE:GREGORIAN
BEGIN:VEVENT
UID:e59f7b1d68a9d0068ee3ade44d5b7869
DTSTAMP:20260421T102945Z
SUMMARY:Drama
DTSTART;TZID=Europe/Prague:20260426T200000
DTEND;TZID=Europe/Prague:20260426T214600
LOCATION:Kino Lucerna
END:VEVENT
END:VCALENDAR
