BEGIN:VCALENDAR
PRODID:-//eluceo/ical//2.0/EN
VERSION:2.0
CALSCALE:GREGORIAN
BEGIN:VEVENT
UID:0fabef87350d95023da0b15c7620b09e
DTSTAMP:20260425T152528Z
SUMMARY:Milost
DTSTART;TZID=Europe/Prague:20260426T174500
DTEND;TZID=Europe/Prague:20260426T195600
LOCATION:Kino Lucerna
END:VEVENT
END:VCALENDAR
BEGIN:VCALENDAR
PRODID:-//eluceo/ical//2.0/EN
VERSION:2.0
CALSCALE:GREGORIAN
BEGIN:VEVENT
UID:b8d910613e0aacad93638a0907c2cdb8
DTSTAMP:20260425T152528Z
SUMMARY:Milost
DTSTART;TZID=Europe/Prague:20260426T174500
DTEND;TZID=Europe/Prague:20260426T195600
LOCATION:Kino Lucerna
END:VEVENT
END:VCALENDAR
