BEGIN:VCALENDAR
PRODID:-//eluceo/ical//2.0/EN
VERSION:2.0
CALSCALE:GREGORIAN
BEGIN:VEVENT
UID:e301c96e659bdf9d40bf8a85b66d1306
DTSTAMP:20260425T193154Z
SUMMARY:Ďábel nosí Pradu 2
DTSTART;TZID=Europe/Prague:20260501T174500
DTEND;TZID=Europe/Prague:20260501T194500
LOCATION:Kino Světozor
END:VEVENT
END:VCALENDAR
BEGIN:VCALENDAR
PRODID:-//eluceo/ical//2.0/EN
VERSION:2.0
CALSCALE:GREGORIAN
BEGIN:VEVENT
UID:44fc6f25dd285c61ec9d8d2692f15732
DTSTAMP:20260425T193154Z
SUMMARY:Ďábel nosí Pradu 2
DTSTART;TZID=Europe/Prague:20260501T174500
DTEND;TZID=Europe/Prague:20260501T194500
LOCATION:Kino Světozor
END:VEVENT
END:VCALENDAR
