BEGIN:VCALENDAR
PRODID:-//eluceo/ical//2.0/EN
VERSION:2.0
CALSCALE:GREGORIAN
BEGIN:VEVENT
UID:d22538ff920213b67821b895b5a5b88b
DTSTAMP:20260425T193020Z
SUMMARY:Ďábel nosí Pradu 2
DTSTART;TZID=Europe/Prague:20260503T180000
DTEND;TZID=Europe/Prague:20260503T200000
LOCATION:Kino Světozor
END:VEVENT
END:VCALENDAR
BEGIN:VCALENDAR
PRODID:-//eluceo/ical//2.0/EN
VERSION:2.0
CALSCALE:GREGORIAN
BEGIN:VEVENT
UID:58c8a5c8dcd16799df1bc84ec44d73be
DTSTAMP:20260425T193020Z
SUMMARY:Ďábel nosí Pradu 2
DTSTART;TZID=Europe/Prague:20260503T180000
DTEND;TZID=Europe/Prague:20260503T200000
LOCATION:Kino Světozor
END:VEVENT
END:VCALENDAR
