BEGIN:VCALENDAR
PRODID:-//eluceo/ical//2.0/EN
VERSION:2.0
CALSCALE:GREGORIAN
BEGIN:VEVENT
UID:e39c056d7864d65b366b5c22b11dbc97
DTSTAMP:20260425T193019Z
SUMMARY:Ďábel nosí Pradu 2
DTSTART;TZID=Europe/Prague:20260504T180000
DTEND;TZID=Europe/Prague:20260504T200000
LOCATION:Kino Světozor
END:VEVENT
END:VCALENDAR
BEGIN:VCALENDAR
PRODID:-//eluceo/ical//2.0/EN
VERSION:2.0
CALSCALE:GREGORIAN
BEGIN:VEVENT
UID:63211e07b577b1b3992670c1c2da7ce6
DTSTAMP:20260425T193019Z
SUMMARY:Ďábel nosí Pradu 2
DTSTART;TZID=Europe/Prague:20260504T180000
DTEND;TZID=Europe/Prague:20260504T200000
LOCATION:Kino Světozor
END:VEVENT
END:VCALENDAR
