BEGIN:VCALENDAR
PRODID:-//eluceo/ical//2.0/EN
VERSION:2.0
CALSCALE:GREGORIAN
BEGIN:VEVENT
UID:1cc1cc0896c037e10571786cff81ebfc
DTSTAMP:20260425T193133Z
SUMMARY:Ďábel nosí Pradu 2
DTSTART;TZID=Europe/Prague:20260504T203000
DTEND;TZID=Europe/Prague:20260504T223000
LOCATION:Kino Světozor
END:VEVENT
END:VCALENDAR
BEGIN:VCALENDAR
PRODID:-//eluceo/ical//2.0/EN
VERSION:2.0
CALSCALE:GREGORIAN
BEGIN:VEVENT
UID:82d8d0644251c1faf58f21fcd000ad56
DTSTAMP:20260425T193133Z
SUMMARY:Ďábel nosí Pradu 2
DTSTART;TZID=Europe/Prague:20260504T203000
DTEND;TZID=Europe/Prague:20260504T223000
LOCATION:Kino Světozor
END:VEVENT
END:VCALENDAR
