BEGIN:VCALENDAR
PRODID:-//eluceo/ical//2.0/EN
VERSION:2.0
CALSCALE:GREGORIAN
BEGIN:VEVENT
UID:119cb6283adafb02ffd7d80889c0eaca
DTSTAMP:20260425T192907Z
SUMMARY:Ďábel nosí Pradu 2
DTSTART;TZID=Europe/Prague:20260505T203000
DTEND;TZID=Europe/Prague:20260505T223000
LOCATION:Kino Světozor
END:VEVENT
END:VCALENDAR
BEGIN:VCALENDAR
PRODID:-//eluceo/ical//2.0/EN
VERSION:2.0
CALSCALE:GREGORIAN
BEGIN:VEVENT
UID:a12a677e88284fb5ca9f8c19ffa09769
DTSTAMP:20260425T192907Z
SUMMARY:Ďábel nosí Pradu 2
DTSTART;TZID=Europe/Prague:20260505T203000
DTEND;TZID=Europe/Prague:20260505T223000
LOCATION:Kino Světozor
END:VEVENT
END:VCALENDAR
