BEGIN:VCALENDAR
PRODID:-//eluceo/ical//2.0/EN
VERSION:2.0
CALSCALE:GREGORIAN
BEGIN:VEVENT
UID:2a10e701893e8cb51f6096f5f71a41f9
DTSTAMP:20260422T040330Z
SUMMARY:Pád
DTSTART;TZID=Europe/Prague:20260424T180000
DTEND;TZID=Europe/Prague:20260424T195200
LOCATION:Bio Oko
END:VEVENT
END:VCALENDAR
BEGIN:VCALENDAR
PRODID:-//eluceo/ical//2.0/EN
VERSION:2.0
CALSCALE:GREGORIAN
BEGIN:VEVENT
UID:dfa1e9c2d603f586f61558d3d6ed5d7a
DTSTAMP:20260422T040330Z
SUMMARY:Pád
DTSTART;TZID=Europe/Prague:20260424T180000
DTEND;TZID=Europe/Prague:20260424T195200
LOCATION:Bio Oko
END:VEVENT
END:VCALENDAR
