BEGIN:VCALENDAR
PRODID:-//eluceo/ical//2.0/EN
VERSION:2.0
CALSCALE:GREGORIAN
BEGIN:VEVENT
UID:987358bfb0b11b63c5e553ba4c49876a
DTSTAMP:20260422T035928Z
SUMMARY:Pád
DTSTART;TZID=Europe/Prague:20260430T203000
DTEND;TZID=Europe/Prague:20260430T222200
LOCATION:Bio Oko
END:VEVENT
END:VCALENDAR
BEGIN:VCALENDAR
PRODID:-//eluceo/ical//2.0/EN
VERSION:2.0
CALSCALE:GREGORIAN
BEGIN:VEVENT
UID:621aad47246c63d44a5235fd2cb86aa6
DTSTAMP:20260422T035928Z
SUMMARY:Pád
DTSTART;TZID=Europe/Prague:20260430T203000
DTEND;TZID=Europe/Prague:20260430T222200
LOCATION:Bio Oko
END:VEVENT
END:VCALENDAR
