BEGIN:VCALENDAR
PRODID:-//eluceo/ical//2.0/EN
VERSION:2.0
CALSCALE:GREGORIAN
BEGIN:VEVENT
UID:f7a6e78cca15c8a58f68d7a159ce4944
DTSTAMP:20260424T141748Z
SUMMARY:Frankenstein | NT Live
DTSTART;TZID=Europe/Prague:20260708T203000
DTEND;TZID=Europe/Prague:20260708T225000
LOCATION:Kino Aero
END:VEVENT
END:VCALENDAR
BEGIN:VCALENDAR
PRODID:-//eluceo/ical//2.0/EN
VERSION:2.0
CALSCALE:GREGORIAN
BEGIN:VEVENT
UID:417f2893c12b6bcda6b34a9c25844650
DTSTAMP:20260424T141748Z
SUMMARY:Frankenstein | NT Live
DTSTART;TZID=Europe/Prague:20260708T203000
DTEND;TZID=Europe/Prague:20260708T225000
LOCATION:Kino Aero
END:VEVENT
END:VCALENDAR
