BEGIN:VCALENDAR
PRODID:-//eluceo/ical//2.0/EN
VERSION:2.0
CALSCALE:GREGORIAN
BEGIN:VEVENT
UID:e6c8594544a2110fd6270d4ffd1a7d17
DTSTAMP:20260421T102451Z
SUMMARY:Drama
DTSTART;TZID=Europe/Prague:20260426T201000
DTEND;TZID=Europe/Prague:20260426T215600
LOCATION:Bio Oko
END:VEVENT
END:VCALENDAR
BEGIN:VCALENDAR
PRODID:-//eluceo/ical//2.0/EN
VERSION:2.0
CALSCALE:GREGORIAN
BEGIN:VEVENT
UID:bc7758793073219f764f831724df830e
DTSTAMP:20260421T102451Z
SUMMARY:Drama
DTSTART;TZID=Europe/Prague:20260426T201000
DTEND;TZID=Europe/Prague:20260426T215600
LOCATION:Bio Oko
END:VEVENT
END:VCALENDAR
