BEGIN:VCALENDAR
PRODID:-//eluceo/ical//2.0/EN
VERSION:2.0
CALSCALE:GREGORIAN
BEGIN:VEVENT
UID:25933cca25424d1481827e39f6e1c813
DTSTAMP:20260421T102632Z
SUMMARY:Drama
DTSTART;TZID=Europe/Prague:20260429T180000
DTEND;TZID=Europe/Prague:20260429T194600
LOCATION:Bio Oko
END:VEVENT
END:VCALENDAR
BEGIN:VCALENDAR
PRODID:-//eluceo/ical//2.0/EN
VERSION:2.0
CALSCALE:GREGORIAN
BEGIN:VEVENT
UID:d901d7f5882418b9622e93581b5278a0
DTSTAMP:20260421T102632Z
SUMMARY:Drama
DTSTART;TZID=Europe/Prague:20260429T180000
DTEND;TZID=Europe/Prague:20260429T194600
LOCATION:Bio Oko
END:VEVENT
END:VCALENDAR
