BEGIN:VCALENDAR
PRODID:-//eluceo/ical//2.0/EN
VERSION:2.0
CALSCALE:GREGORIAN
BEGIN:VEVENT
UID:9013fd13198dc862e4702179e92c2625
DTSTAMP:20260421T185706Z
SUMMARY:Otec Matka Sestra Bratr
DTSTART;TZID=Europe/Prague:20260427T180000
DTEND;TZID=Europe/Prague:20260427T195000
LOCATION:Bio Oko
END:VEVENT
END:VCALENDAR
BEGIN:VCALENDAR
PRODID:-//eluceo/ical//2.0/EN
VERSION:2.0
CALSCALE:GREGORIAN
BEGIN:VEVENT
UID:e2010c81a2fcf252229178b612d5724f
DTSTAMP:20260421T185706Z
SUMMARY:Otec Matka Sestra Bratr
DTSTART;TZID=Europe/Prague:20260427T180000
DTEND;TZID=Europe/Prague:20260427T195000
LOCATION:Bio Oko
END:VEVENT
END:VCALENDAR
