BEGIN:VCALENDAR
PRODID:-//eluceo/ical//2.0/EN
VERSION:2.0
CALSCALE:GREGORIAN
BEGIN:VEVENT
UID:2458a05bba4feb9b2192e58215727c95
DTSTAMP:20260422T124439Z
SUMMARY:Porco Rosso
DTSTART;TZID=Europe/Prague:20260430T181500
DTEND;TZID=Europe/Prague:20260430T194800
LOCATION:Bio Oko
END:VEVENT
END:VCALENDAR
BEGIN:VCALENDAR
PRODID:-//eluceo/ical//2.0/EN
VERSION:2.0
CALSCALE:GREGORIAN
BEGIN:VEVENT
UID:52a80b633bef9a8a43186ebfaa2ee913
DTSTAMP:20260422T124439Z
SUMMARY:Porco Rosso
DTSTART;TZID=Europe/Prague:20260430T181500
DTEND;TZID=Europe/Prague:20260430T194800
LOCATION:Bio Oko
END:VEVENT
END:VCALENDAR
