BEGIN:VCALENDAR
PRODID:-//eluceo/ical//2.0/EN
VERSION:2.0
CALSCALE:GREGORIAN
BEGIN:VEVENT
UID:234c41e20c7ae71b8340777a9e7f8770
DTSTAMP:20260421T101835Z
SUMMARY:Drama
DTSTART;TZID=Europe/Prague:20260427T124500
DTEND;TZID=Europe/Prague:20260427T143100
LOCATION:Kino Lucerna
END:VEVENT
END:VCALENDAR
BEGIN:VCALENDAR
PRODID:-//eluceo/ical//2.0/EN
VERSION:2.0
CALSCALE:GREGORIAN
BEGIN:VEVENT
UID:b57638e3a5d63caf0f6ace44e8fb4c2f
DTSTAMP:20260421T101835Z
SUMMARY:Drama
DTSTART;TZID=Europe/Prague:20260427T124500
DTEND;TZID=Europe/Prague:20260427T143100
LOCATION:Kino Lucerna
END:VEVENT
END:VCALENDAR
