BEGIN:VCALENDAR
PRODID:-//eluceo/ical//2.0/EN
VERSION:2.0
CALSCALE:GREGORIAN
BEGIN:VEVENT
UID:ec89bfc5cd53494d32172132157ae3a5
DTSTAMP:20260423T192643Z
SUMMARY:Pan Nikdo proti Putinovi
DTSTART;TZID=Europe/Prague:20260428T154500
DTEND;TZID=Europe/Prague:20260428T171500
LOCATION:Kino Lucerna
END:VEVENT
END:VCALENDAR
BEGIN:VCALENDAR
PRODID:-//eluceo/ical//2.0/EN
VERSION:2.0
CALSCALE:GREGORIAN
BEGIN:VEVENT
UID:e6a123154ac5a9a99e056f2f85eeb351
DTSTAMP:20260423T192643Z
SUMMARY:Pan Nikdo proti Putinovi
DTSTART;TZID=Europe/Prague:20260428T154500
DTEND;TZID=Europe/Prague:20260428T171500
LOCATION:Kino Lucerna
END:VEVENT
END:VCALENDAR
