BEGIN:VCALENDAR
PRODID:-//eluceo/ical//2.0/EN
VERSION:2.0
CALSCALE:GREGORIAN
BEGIN:VEVENT
UID:9472d4aa2722d2cbff634b34455b49cc
DTSTAMP:20260421T101835Z
SUMMARY:Drama
DTSTART;TZID=Europe/Prague:20260428T180000
DTEND;TZID=Europe/Prague:20260428T194600
LOCATION:Kino Lucerna
END:VEVENT
END:VCALENDAR
BEGIN:VCALENDAR
PRODID:-//eluceo/ical//2.0/EN
VERSION:2.0
CALSCALE:GREGORIAN
BEGIN:VEVENT
UID:2d828ac622caebd2a8e3b88f281d681e
DTSTAMP:20260421T101835Z
SUMMARY:Drama
DTSTART;TZID=Europe/Prague:20260428T180000
DTEND;TZID=Europe/Prague:20260428T194600
LOCATION:Kino Lucerna
END:VEVENT
END:VCALENDAR
