BEGIN:VCALENDAR
PRODID:-//eluceo/ical//2.0/EN
VERSION:2.0
CALSCALE:GREGORIAN
BEGIN:VEVENT
UID:c0c57ac0831d71a91319d4c1e75bbb0a
DTSTAMP:20260421T102637Z
SUMMARY:Drama
DTSTART;TZID=Europe/Prague:20260429T124500
DTEND;TZID=Europe/Prague:20260429T143100
LOCATION:Kino Lucerna
END:VEVENT
END:VCALENDAR
BEGIN:VCALENDAR
PRODID:-//eluceo/ical//2.0/EN
VERSION:2.0
CALSCALE:GREGORIAN
BEGIN:VEVENT
UID:47f88b7ecf6046a9c69ea28a93b16e92
DTSTAMP:20260421T102637Z
SUMMARY:Drama
DTSTART;TZID=Europe/Prague:20260429T124500
DTEND;TZID=Europe/Prague:20260429T143100
LOCATION:Kino Lucerna
END:VEVENT
END:VCALENDAR
