BEGIN:VCALENDAR
PRODID:-//eluceo/ical//2.0/EN
VERSION:2.0
CALSCALE:GREGORIAN
BEGIN:VEVENT
UID:fa136ff13a8e3ca3f3f175fa7baf7a28
DTSTAMP:20260425T153013Z
SUMMARY:Slepice
DTSTART;TZID=Europe/Prague:20260429T151500
DTEND;TZID=Europe/Prague:20260429T165100
LOCATION:Kino Lucerna
END:VEVENT
END:VCALENDAR
BEGIN:VCALENDAR
PRODID:-//eluceo/ical//2.0/EN
VERSION:2.0
CALSCALE:GREGORIAN
BEGIN:VEVENT
UID:355567bbc0226458eb1e345f672e9a15
DTSTAMP:20260425T153013Z
SUMMARY:Slepice
DTSTART;TZID=Europe/Prague:20260429T151500
DTEND;TZID=Europe/Prague:20260429T165100
LOCATION:Kino Lucerna
END:VEVENT
END:VCALENDAR
