BEGIN:VCALENDAR
PRODID:-//eluceo/ical//2.0/EN
VERSION:2.0
CALSCALE:GREGORIAN
BEGIN:VEVENT
UID:4da6c404aacd16aa82d28e110262ecea
DTSTAMP:20260421T102116Z
SUMMARY:Drama
DTSTART;TZID=Europe/Prague:20260429T174500
DTEND;TZID=Europe/Prague:20260429T193100
LOCATION:Kino Lucerna
END:VEVENT
END:VCALENDAR
BEGIN:VCALENDAR
PRODID:-//eluceo/ical//2.0/EN
VERSION:2.0
CALSCALE:GREGORIAN
BEGIN:VEVENT
UID:c84dacec443dab0f04bd2d8a0c33c1d4
DTSTAMP:20260421T102116Z
SUMMARY:Drama
DTSTART;TZID=Europe/Prague:20260429T174500
DTEND;TZID=Europe/Prague:20260429T193100
LOCATION:Kino Lucerna
END:VEVENT
END:VCALENDAR
