BEGIN:VCALENDAR
PRODID:-//eluceo/ical//2.0/EN
VERSION:2.0
CALSCALE:GREGORIAN
BEGIN:VEVENT
UID:c54c2919d93d7235c712b239694a046e
DTSTAMP:20260425T152733Z
SUMMARY:Slepice
DTSTART;TZID=Europe/Prague:20260427T180000
DTEND;TZID=Europe/Prague:20260427T193600
LOCATION:Kino Lucerna
END:VEVENT
END:VCALENDAR
BEGIN:VCALENDAR
PRODID:-//eluceo/ical//2.0/EN
VERSION:2.0
CALSCALE:GREGORIAN
BEGIN:VEVENT
UID:9bc46ea43f5b06ee9239dabb2ece4212
DTSTAMP:20260425T152733Z
SUMMARY:Slepice
DTSTART;TZID=Europe/Prague:20260427T180000
DTEND;TZID=Europe/Prague:20260427T193600
LOCATION:Kino Lucerna
END:VEVENT
END:VCALENDAR
