BEGIN:VCALENDAR
PRODID:-//eluceo/ical//2.0/EN
VERSION:2.0
CALSCALE:GREGORIAN
BEGIN:VEVENT
UID:4b5061a1baa59a24ddaaab737630348f
DTSTAMP:20260423T192529Z
SUMMARY:Pan Nikdo proti Putinovi
DTSTART;TZID=Europe/Prague:20260427T141500
DTEND;TZID=Europe/Prague:20260427T154500
LOCATION:Kino Světozor
END:VEVENT
END:VCALENDAR
BEGIN:VCALENDAR
PRODID:-//eluceo/ical//2.0/EN
VERSION:2.0
CALSCALE:GREGORIAN
BEGIN:VEVENT
UID:8edaf5b6311030714cba3011c6880cac
DTSTAMP:20260423T192529Z
SUMMARY:Pan Nikdo proti Putinovi
DTSTART;TZID=Europe/Prague:20260427T141500
DTEND;TZID=Europe/Prague:20260427T154500
LOCATION:Kino Světozor
END:VEVENT
END:VCALENDAR
