BEGIN:VCALENDAR
PRODID:-//eluceo/ical//2.0/EN
VERSION:2.0
CALSCALE:GREGORIAN
BEGIN:VEVENT
UID:2c5a78f8ea5f82f49f243d3ae44786ad
DTSTAMP:20260423T192703Z
SUMMARY:Pan Nikdo proti Putinovi
DTSTART;TZID=Europe/Prague:20260425T120000
DTEND;TZID=Europe/Prague:20260425T133000
LOCATION:Kino Světozor
END:VEVENT
END:VCALENDAR
BEGIN:VCALENDAR
PRODID:-//eluceo/ical//2.0/EN
VERSION:2.0
CALSCALE:GREGORIAN
BEGIN:VEVENT
UID:3e70f0394251ef797dd1b191d624600f
DTSTAMP:20260423T192703Z
SUMMARY:Pan Nikdo proti Putinovi
DTSTART;TZID=Europe/Prague:20260425T120000
DTEND;TZID=Europe/Prague:20260425T133000
LOCATION:Kino Světozor
END:VEVENT
END:VCALENDAR
