BEGIN:VCALENDAR
PRODID:-//eluceo/ical//2.0/EN
VERSION:2.0
CALSCALE:GREGORIAN
BEGIN:VEVENT
UID:9434ec3f3bae93a61a194076715bfcf2
DTSTAMP:20260423T193123Z
SUMMARY:Pan Nikdo proti Putinovi
DTSTART;TZID=Europe/Prague:20260426T204500
DTEND;TZID=Europe/Prague:20260426T221500
LOCATION:Kino Světozor
END:VEVENT
END:VCALENDAR
BEGIN:VCALENDAR
PRODID:-//eluceo/ical//2.0/EN
VERSION:2.0
CALSCALE:GREGORIAN
BEGIN:VEVENT
UID:8e2d3c929c2012b2ccd12ed8cae3bdcd
DTSTAMP:20260423T193123Z
SUMMARY:Pan Nikdo proti Putinovi
DTSTART;TZID=Europe/Prague:20260426T204500
DTEND;TZID=Europe/Prague:20260426T221500
LOCATION:Kino Světozor
END:VEVENT
END:VCALENDAR
