BEGIN:VCALENDAR
PRODID:-//eluceo/ical//2.0/EN
VERSION:2.0
CALSCALE:GREGORIAN
BEGIN:VEVENT
UID:48abc1a4cbee6a85c6400a69d8f93bf0
DTSTAMP:20260425T152544Z
SUMMARY:Slepice
DTSTART;TZID=Europe/Prague:20260426T114500
DTEND;TZID=Europe/Prague:20260426T132100
LOCATION:Kino Světozor
END:VEVENT
END:VCALENDAR
BEGIN:VCALENDAR
PRODID:-//eluceo/ical//2.0/EN
VERSION:2.0
CALSCALE:GREGORIAN
BEGIN:VEVENT
UID:91b6722b1b090ea5afc8a3bbb784d163
DTSTAMP:20260425T152544Z
SUMMARY:Slepice
DTSTART;TZID=Europe/Prague:20260426T114500
DTEND;TZID=Europe/Prague:20260426T132100
LOCATION:Kino Světozor
END:VEVENT
END:VCALENDAR
