BEGIN:VCALENDAR
PRODID:-//eluceo/ical//2.0/EN
VERSION:2.0
CALSCALE:GREGORIAN
BEGIN:VEVENT
UID:0e1bd9b2d872688a8d833d3d1d7bc17b
DTSTAMP:20260425T152619Z
SUMMARY:Slepice
DTSTART;TZID=Europe/Prague:20260428T180000
DTEND;TZID=Europe/Prague:20260428T193600
LOCATION:Kino Světozor
END:VEVENT
END:VCALENDAR
BEGIN:VCALENDAR
PRODID:-//eluceo/ical//2.0/EN
VERSION:2.0
CALSCALE:GREGORIAN
BEGIN:VEVENT
UID:bda53ecbdaadf1cb36287dedf7b1e289
DTSTAMP:20260425T152619Z
SUMMARY:Slepice
DTSTART;TZID=Europe/Prague:20260428T180000
DTEND;TZID=Europe/Prague:20260428T193600
LOCATION:Kino Světozor
END:VEVENT
END:VCALENDAR
