BEGIN:VCALENDAR
PRODID:-//eluceo/ical//2.0/EN
VERSION:2.0
CALSCALE:GREGORIAN
BEGIN:VEVENT
UID:77e422994d635cbcb9d3d023ba2d963e
DTSTAMP:20260425T152528Z
SUMMARY:Slepice
DTSTART;TZID=Europe/Prague:20260429T201500
DTEND;TZID=Europe/Prague:20260429T215100
LOCATION:Kino Světozor
END:VEVENT
END:VCALENDAR
BEGIN:VCALENDAR
PRODID:-//eluceo/ical//2.0/EN
VERSION:2.0
CALSCALE:GREGORIAN
BEGIN:VEVENT
UID:bed220c2285de121cc7c48284b5fe225
DTSTAMP:20260425T152528Z
SUMMARY:Slepice
DTSTART;TZID=Europe/Prague:20260429T201500
DTEND;TZID=Europe/Prague:20260429T215100
LOCATION:Kino Světozor
END:VEVENT
END:VCALENDAR
