BEGIN:VCALENDAR
PRODID:-//eluceo/ical//2.0/EN
VERSION:2.0
CALSCALE:GREGORIAN
BEGIN:VEVENT
UID:5698112dd702d8dc383b87bd4be76c91
DTSTAMP:20260422T040136Z
SUMMARY:Pád
DTSTART;TZID=Europe/Prague:20260427T203000
DTEND;TZID=Europe/Prague:20260427T222200
LOCATION:Kino Světozor
END:VEVENT
END:VCALENDAR
BEGIN:VCALENDAR
PRODID:-//eluceo/ical//2.0/EN
VERSION:2.0
CALSCALE:GREGORIAN
BEGIN:VEVENT
UID:6fcc25cb200addbf87eee24095a73169
DTSTAMP:20260422T040136Z
SUMMARY:Pád
DTSTART;TZID=Europe/Prague:20260427T203000
DTEND;TZID=Europe/Prague:20260427T222200
LOCATION:Kino Světozor
END:VEVENT
END:VCALENDAR
