BEGIN:VCALENDAR
PRODID:-//eluceo/ical//2.0/EN
VERSION:2.0
CALSCALE:GREGORIAN
BEGIN:VEVENT
UID:39ad60537490f8acbdb7b30a087d7af4
DTSTAMP:20260422T035953Z
SUMMARY:Pád
DTSTART;TZID=Europe/Prague:20260423T150000
DTEND;TZID=Europe/Prague:20260423T165200
LOCATION:Kino Světozor
END:VEVENT
END:VCALENDAR
BEGIN:VCALENDAR
PRODID:-//eluceo/ical//2.0/EN
VERSION:2.0
CALSCALE:GREGORIAN
BEGIN:VEVENT
UID:f8e0faffa56de13999ef2f871df19f8e
DTSTAMP:20260422T035953Z
SUMMARY:Pád
DTSTART;TZID=Europe/Prague:20260423T150000
DTEND;TZID=Europe/Prague:20260423T165200
LOCATION:Kino Světozor
END:VEVENT
END:VCALENDAR
