BEGIN:VCALENDAR
PRODID:-//eluceo/ical//2.0/EN
VERSION:2.0
CALSCALE:GREGORIAN
BEGIN:VEVENT
UID:26d9eec8717f53c5f9d02d6cd1b86e9c
DTSTAMP:20260422T040100Z
SUMMARY:Pád
DTSTART;TZID=Europe/Prague:20260426T201500
DTEND;TZID=Europe/Prague:20260426T220700
LOCATION:Kino Světozor
END:VEVENT
END:VCALENDAR
BEGIN:VCALENDAR
PRODID:-//eluceo/ical//2.0/EN
VERSION:2.0
CALSCALE:GREGORIAN
BEGIN:VEVENT
UID:08107f6cb762c800e2e486bfa5e12d75
DTSTAMP:20260422T040100Z
SUMMARY:Pád
DTSTART;TZID=Europe/Prague:20260426T201500
DTEND;TZID=Europe/Prague:20260426T220700
LOCATION:Kino Světozor
END:VEVENT
END:VCALENDAR
