BEGIN:VCALENDAR
PRODID:-//eluceo/ical//2.0/EN
VERSION:2.0
CALSCALE:GREGORIAN
BEGIN:VEVENT
UID:c929e51ba456910412fb048c5702d38c
DTSTAMP:20260422T035953Z
SUMMARY:Pád
DTSTART;TZID=Europe/Prague:20260429T181500
DTEND;TZID=Europe/Prague:20260429T200700
LOCATION:Kino Světozor
END:VEVENT
END:VCALENDAR
BEGIN:VCALENDAR
PRODID:-//eluceo/ical//2.0/EN
VERSION:2.0
CALSCALE:GREGORIAN
BEGIN:VEVENT
UID:0b1e46fe2510f3afdd5a11c9e8042399
DTSTAMP:20260422T035953Z
SUMMARY:Pád
DTSTART;TZID=Europe/Prague:20260429T181500
DTEND;TZID=Europe/Prague:20260429T200700
LOCATION:Kino Světozor
END:VEVENT
END:VCALENDAR
