BEGIN:VCALENDAR
PRODID:-//eluceo/ical//2.0/EN
VERSION:2.0
CALSCALE:GREGORIAN
BEGIN:VEVENT
UID:8cba08e4942441541ad4a07665540277
DTSTAMP:20260421T102532Z
SUMMARY:Drama
DTSTART;TZID=Europe/Prague:20260423T173000
DTEND;TZID=Europe/Prague:20260423T191600
LOCATION:Kino Světozor
END:VEVENT
END:VCALENDAR
BEGIN:VCALENDAR
PRODID:-//eluceo/ical//2.0/EN
VERSION:2.0
CALSCALE:GREGORIAN
BEGIN:VEVENT
UID:8a014901273d364f56e3ab6843bb0777
DTSTAMP:20260421T102532Z
SUMMARY:Drama
DTSTART;TZID=Europe/Prague:20260423T173000
DTEND;TZID=Europe/Prague:20260423T191600
LOCATION:Kino Světozor
END:VEVENT
END:VCALENDAR
