BEGIN:VCALENDAR
PRODID:-//eluceo/ical//2.0/EN
VERSION:2.0
CALSCALE:GREGORIAN
BEGIN:VEVENT
UID:bdeb5e6632a88f9aa52daa93f7595890
DTSTAMP:20260421T102509Z
SUMMARY:Drama
DTSTART;TZID=Europe/Prague:20260424T151500
DTEND;TZID=Europe/Prague:20260424T170100
LOCATION:Kino Světozor
END:VEVENT
END:VCALENDAR
BEGIN:VCALENDAR
PRODID:-//eluceo/ical//2.0/EN
VERSION:2.0
CALSCALE:GREGORIAN
BEGIN:VEVENT
UID:7fa7a5cad1f1149b31ab6300c9b023f4
DTSTAMP:20260421T102509Z
SUMMARY:Drama
DTSTART;TZID=Europe/Prague:20260424T151500
DTEND;TZID=Europe/Prague:20260424T170100
LOCATION:Kino Světozor
END:VEVENT
END:VCALENDAR
