BEGIN:VCALENDAR
PRODID:-//eluceo/ical//2.0/EN
VERSION:2.0
CALSCALE:GREGORIAN
BEGIN:VEVENT
UID:d837a255c5abb42f9f329946b9518c09
DTSTAMP:20260421T102451Z
SUMMARY:Drama
DTSTART;TZID=Europe/Prague:20260424T174500
DTEND;TZID=Europe/Prague:20260424T193100
LOCATION:Kino Světozor
END:VEVENT
END:VCALENDAR
BEGIN:VCALENDAR
PRODID:-//eluceo/ical//2.0/EN
VERSION:2.0
CALSCALE:GREGORIAN
BEGIN:VEVENT
UID:9607bbc9e572f9b392997696783391b6
DTSTAMP:20260421T102451Z
SUMMARY:Drama
DTSTART;TZID=Europe/Prague:20260424T174500
DTEND;TZID=Europe/Prague:20260424T193100
LOCATION:Kino Světozor
END:VEVENT
END:VCALENDAR
