BEGIN:VCALENDAR
PRODID:-//eluceo/ical//2.0/EN
VERSION:2.0
CALSCALE:GREGORIAN
BEGIN:VEVENT
UID:b27f2a042d191b7400f85ed16361bda5
DTSTAMP:20260421T102256Z
SUMMARY:Drama
DTSTART;TZID=Europe/Prague:20260425T150000
DTEND;TZID=Europe/Prague:20260425T164600
LOCATION:Kino Světozor
END:VEVENT
END:VCALENDAR
BEGIN:VCALENDAR
PRODID:-//eluceo/ical//2.0/EN
VERSION:2.0
CALSCALE:GREGORIAN
BEGIN:VEVENT
UID:d484792e356d90b7ef0b7e55450223b6
DTSTAMP:20260421T102256Z
SUMMARY:Drama
DTSTART;TZID=Europe/Prague:20260425T150000
DTEND;TZID=Europe/Prague:20260425T164600
LOCATION:Kino Světozor
END:VEVENT
END:VCALENDAR
