BEGIN:VCALENDAR
PRODID:-//eluceo/ical//2.0/EN
VERSION:2.0
CALSCALE:GREGORIAN
BEGIN:VEVENT
UID:c4a5438957b01f104ed4384c3de53730
DTSTAMP:20260421T102116Z
SUMMARY:Drama
DTSTART;TZID=Europe/Prague:20260429T150000
DTEND;TZID=Europe/Prague:20260429T164600
LOCATION:Kino Světozor
END:VEVENT
END:VCALENDAR
BEGIN:VCALENDAR
PRODID:-//eluceo/ical//2.0/EN
VERSION:2.0
CALSCALE:GREGORIAN
BEGIN:VEVENT
UID:b3af7f635a02d3f93607d02c8ce2a151
DTSTAMP:20260421T102116Z
SUMMARY:Drama
DTSTART;TZID=Europe/Prague:20260429T150000
DTEND;TZID=Europe/Prague:20260429T164600
LOCATION:Kino Světozor
END:VEVENT
END:VCALENDAR
