BEGIN:VCALENDAR
PRODID:-//eluceo/ical//2.0/EN
VERSION:2.0
CALSCALE:GREGORIAN
BEGIN:VEVENT
UID:c73ab3a0cf07b8bd944f3b6220974fa5
DTSTAMP:20260421T102010Z
SUMMARY:Drama
DTSTART;TZID=Europe/Prague:20260429T204500
DTEND;TZID=Europe/Prague:20260429T223100
LOCATION:Kino Světozor
END:VEVENT
END:VCALENDAR
BEGIN:VCALENDAR
PRODID:-//eluceo/ical//2.0/EN
VERSION:2.0
CALSCALE:GREGORIAN
BEGIN:VEVENT
UID:9b8238fc511cca1e9f09fe39e2cf2037
DTSTAMP:20260421T102010Z
SUMMARY:Drama
DTSTART;TZID=Europe/Prague:20260429T204500
DTEND;TZID=Europe/Prague:20260429T223100
LOCATION:Kino Světozor
END:VEVENT
END:VCALENDAR
