BEGIN:VCALENDAR
PRODID:-//eluceo/ical//2.0/EN
VERSION:2.0
CALSCALE:GREGORIAN
BEGIN:VEVENT
UID:097cf36945b7b35b110e6a740f0c8a41
DTSTAMP:20260421T102134Z
SUMMARY:Drama
DTSTART;TZID=Europe/Prague:20260427T173000
DTEND;TZID=Europe/Prague:20260427T191600
LOCATION:Kino Světozor
END:VEVENT
END:VCALENDAR
BEGIN:VCALENDAR
PRODID:-//eluceo/ical//2.0/EN
VERSION:2.0
CALSCALE:GREGORIAN
BEGIN:VEVENT
UID:320a01f117939d0cf80fc873f81f297a
DTSTAMP:20260421T102134Z
SUMMARY:Drama
DTSTART;TZID=Europe/Prague:20260427T173000
DTEND;TZID=Europe/Prague:20260427T191600
LOCATION:Kino Světozor
END:VEVENT
END:VCALENDAR
