BEGIN:VCALENDAR
PRODID:-//eluceo/ical//2.0/EN
VERSION:2.0
CALSCALE:GREGORIAN
BEGIN:VEVENT
UID:0a39508277028aafda60054983f8f052
DTSTAMP:20260425T152945Z
SUMMARY:Slepice
DTSTART;TZID=Europe/Prague:20260427T200000
DTEND;TZID=Europe/Prague:20260427T213600
LOCATION:Kino Světozor
END:VEVENT
END:VCALENDAR
BEGIN:VCALENDAR
PRODID:-//eluceo/ical//2.0/EN
VERSION:2.0
CALSCALE:GREGORIAN
BEGIN:VEVENT
UID:1a06c6f10c81a71678f2c6609cd3c5a4
DTSTAMP:20260425T152945Z
SUMMARY:Slepice
DTSTART;TZID=Europe/Prague:20260427T200000
DTEND;TZID=Europe/Prague:20260427T213600
LOCATION:Kino Světozor
END:VEVENT
END:VCALENDAR
