BEGIN:VCALENDAR
PRODID:-//eluceo/ical//2.0/EN
VERSION:2.0
CALSCALE:GREGORIAN
BEGIN:VEVENT
UID:a86a5a9e117197446dbd6d8f5947da3e
DTSTAMP:20260421T102256Z
SUMMARY:Drama
DTSTART;TZID=Europe/Prague:20260423T153000
DTEND;TZID=Europe/Prague:20260423T171600
LOCATION:Kino Světozor
END:VEVENT
END:VCALENDAR
BEGIN:VCALENDAR
PRODID:-//eluceo/ical//2.0/EN
VERSION:2.0
CALSCALE:GREGORIAN
BEGIN:VEVENT
UID:e6c88cc069fb99a2a13c6ecbf6f20b6b
DTSTAMP:20260421T102256Z
SUMMARY:Drama
DTSTART;TZID=Europe/Prague:20260423T153000
DTEND;TZID=Europe/Prague:20260423T171600
LOCATION:Kino Světozor
END:VEVENT
END:VCALENDAR
