BEGIN:VCALENDAR
PRODID:-//eluceo/ical//2.0/EN
VERSION:2.0
CALSCALE:GREGORIAN
BEGIN:VEVENT
UID:8aa4dc31e784b852a66f994ab812975e
DTSTAMP:20260421T102030Z
SUMMARY:Drama
DTSTART;TZID=Europe/Prague:20260423T203000
DTEND;TZID=Europe/Prague:20260423T221600
LOCATION:Kino Světozor
END:VEVENT
END:VCALENDAR
BEGIN:VCALENDAR
PRODID:-//eluceo/ical//2.0/EN
VERSION:2.0
CALSCALE:GREGORIAN
BEGIN:VEVENT
UID:5a275a5e0aabee5763ad67ffb74bab29
DTSTAMP:20260421T102030Z
SUMMARY:Drama
DTSTART;TZID=Europe/Prague:20260423T203000
DTEND;TZID=Europe/Prague:20260423T221600
LOCATION:Kino Světozor
END:VEVENT
END:VCALENDAR
