BEGIN:VCALENDAR
PRODID:-//eluceo/ical//2.0/EN
VERSION:2.0
CALSCALE:GREGORIAN
BEGIN:VEVENT
UID:0421d67a742198e151892ea62ebf34ac
DTSTAMP:20260421T102425Z
SUMMARY:Drama
DTSTART;TZID=Europe/Prague:20260425T130000
DTEND;TZID=Europe/Prague:20260425T144600
LOCATION:Kino Světozor
END:VEVENT
END:VCALENDAR
BEGIN:VCALENDAR
PRODID:-//eluceo/ical//2.0/EN
VERSION:2.0
CALSCALE:GREGORIAN
BEGIN:VEVENT
UID:6bca1674548aa5bc676994afa3433379
DTSTAMP:20260421T102425Z
SUMMARY:Drama
DTSTART;TZID=Europe/Prague:20260425T130000
DTEND;TZID=Europe/Prague:20260425T144600
LOCATION:Kino Světozor
END:VEVENT
END:VCALENDAR
