BEGIN:VCALENDAR
PRODID:-//eluceo/ical//2.0/EN
VERSION:2.0
CALSCALE:GREGORIAN
BEGIN:VEVENT
UID:f47afec0619338e99a8db3473401d273
DTSTAMP:20260421T102546Z
SUMMARY:Drama
DTSTART;TZID=Europe/Prague:20260425T203000
DTEND;TZID=Europe/Prague:20260425T221600
LOCATION:Kino Světozor
END:VEVENT
END:VCALENDAR
BEGIN:VCALENDAR
PRODID:-//eluceo/ical//2.0/EN
VERSION:2.0
CALSCALE:GREGORIAN
BEGIN:VEVENT
UID:e23eb816f8a3c8c264903b9faaf764a2
DTSTAMP:20260421T102546Z
SUMMARY:Drama
DTSTART;TZID=Europe/Prague:20260425T203000
DTEND;TZID=Europe/Prague:20260425T221600
LOCATION:Kino Světozor
END:VEVENT
END:VCALENDAR
