BEGIN:VCALENDAR
PRODID:-//eluceo/ical//2.0/EN
VERSION:2.0
CALSCALE:GREGORIAN
BEGIN:VEVENT
UID:b61d8c2307ec04cfccce6257d9a828e4
DTSTAMP:20260421T102339Z
SUMMARY:Drama
DTSTART;TZID=Europe/Prague:20260426T121500
DTEND;TZID=Europe/Prague:20260426T140100
LOCATION:Kino Světozor
END:VEVENT
END:VCALENDAR
BEGIN:VCALENDAR
PRODID:-//eluceo/ical//2.0/EN
VERSION:2.0
CALSCALE:GREGORIAN
BEGIN:VEVENT
UID:ef3d9a48ad87600f1d7d228ff9a30422
DTSTAMP:20260421T102339Z
SUMMARY:Drama
DTSTART;TZID=Europe/Prague:20260426T121500
DTEND;TZID=Europe/Prague:20260426T140100
LOCATION:Kino Světozor
END:VEVENT
END:VCALENDAR
