BEGIN:VCALENDAR
PRODID:-//eluceo/ical//2.0/EN
VERSION:2.0
CALSCALE:GREGORIAN
BEGIN:VEVENT
UID:89e776726e8fb5dbe8a9d107408080cc
DTSTAMP:20260421T102046Z
SUMMARY:Drama
DTSTART;TZID=Europe/Prague:20260426T180000
DTEND;TZID=Europe/Prague:20260426T194600
LOCATION:Kino Světozor
END:VEVENT
END:VCALENDAR
BEGIN:VCALENDAR
PRODID:-//eluceo/ical//2.0/EN
VERSION:2.0
CALSCALE:GREGORIAN
BEGIN:VEVENT
UID:fea5e05678f788606d2eefb6b99b8150
DTSTAMP:20260421T102046Z
SUMMARY:Drama
DTSTART;TZID=Europe/Prague:20260426T180000
DTEND;TZID=Europe/Prague:20260426T194600
LOCATION:Kino Světozor
END:VEVENT
END:VCALENDAR
